BEGIN:VCALENDAR
VERSION:2.0
PRODID:-//American Institute For Southeast European Studies - ECPv6.15.20//NONSGML v1.0//EN
CALSCALE:GREGORIAN
METHOD:PUBLISH
X-ORIGINAL-URL:https://aisees.org
X-WR-CALDESC:Events for American Institute For Southeast European Studies
REFRESH-INTERVAL;VALUE=DURATION:PT1H
X-Robots-Tag:noindex
X-PUBLISHED-TTL:PT1H
BEGIN:VTIMEZONE
TZID:America/New_York
BEGIN:DAYLIGHT
TZOFFSETFROM:-0500
TZOFFSETTO:-0400
TZNAME:EDT
DTSTART:20250309T070000
END:DAYLIGHT
BEGIN:STANDARD
TZOFFSETFROM:-0400
TZOFFSETTO:-0500
TZNAME:EST
DTSTART:20251102T060000
END:STANDARD
BEGIN:DAYLIGHT
TZOFFSETFROM:-0500
TZOFFSETTO:-0400
TZNAME:EDT
DTSTART:20260308T070000
END:DAYLIGHT
BEGIN:STANDARD
TZOFFSETFROM:-0400
TZOFFSETTO:-0500
TZNAME:EST
DTSTART:20261101T060000
END:STANDARD
BEGIN:DAYLIGHT
TZOFFSETFROM:-0500
TZOFFSETTO:-0400
TZNAME:EDT
DTSTART:20270314T070000
END:DAYLIGHT
BEGIN:STANDARD
TZOFFSETFROM:-0400
TZOFFSETTO:-0500
TZNAME:EST
DTSTART:20271107T060000
END:STANDARD
END:VTIMEZONE
BEGIN:VTIMEZONE
TZID:America/Los_Angeles
BEGIN:DAYLIGHT
TZOFFSETFROM:-0800
TZOFFSETTO:-0700
TZNAME:PDT
DTSTART:20240310T100000
END:DAYLIGHT
BEGIN:STANDARD
TZOFFSETFROM:-0700
TZOFFSETTO:-0800
TZNAME:PST
DTSTART:20241103T090000
END:STANDARD
BEGIN:DAYLIGHT
TZOFFSETFROM:-0800
TZOFFSETTO:-0700
TZNAME:PDT
DTSTART:20250309T100000
END:DAYLIGHT
BEGIN:STANDARD
TZOFFSETFROM:-0700
TZOFFSETTO:-0800
TZNAME:PST
DTSTART:20251102T090000
END:STANDARD
BEGIN:DAYLIGHT
TZOFFSETFROM:-0800
TZOFFSETTO:-0700
TZNAME:PDT
DTSTART:20260308T100000
END:DAYLIGHT
BEGIN:STANDARD
TZOFFSETFROM:-0700
TZOFFSETTO:-0800
TZNAME:PST
DTSTART:20261101T090000
END:STANDARD
BEGIN:DAYLIGHT
TZOFFSETFROM:-0800
TZOFFSETTO:-0700
TZNAME:PDT
DTSTART:20270314T100000
END:DAYLIGHT
BEGIN:STANDARD
TZOFFSETFROM:-0700
TZOFFSETTO:-0800
TZNAME:PST
DTSTART:20271107T090000
END:STANDARD
END:VTIMEZONE
BEGIN:VEVENT
DTSTART;TZID=America/New_York:20260313T123000
DTEND;TZID=America/New_York:20260313T133000
DTSTAMP:20260424T113438
CREATED:20260213T200514Z
LAST-MODIFIED:20260312T172807Z
UID:866-1773405000-1773408600@aisees.org
SUMMARY:The Lighting of Sacred Spaces and Imperial Ambitions in Post-Byzantine Moldavia
DESCRIPTION:Vladimir Ivanovici and Alice Isabella Sullivan\, examine the economy of artificial light in medieval churches across Eastern Europe\, the Mediterranean region\, and the broader medieval spheres. \n*** Please note that in the USA we reset clocks to daylight saving time on March 8. Check your local time.***\n\nTime: 13 mar 2026 12:30 PM  (EST)\nZoom link:\nhttps://virginia.zoom.us/j/98180682551?pwd=nT9LApuM0b3qHRxsgOhS1WHil3E3S6.1\n\nMeeting ID: 981 8068 2551\nPasscode: 083004
URL:https://aisees.org/event/the-lighting-of-sacred-spaces-and-imperial-ambitions-in-post-byzantine-moldavia/
END:VEVENT
BEGIN:VEVENT
DTSTART;TZID=America/Los_Angeles:20260228T233000
DTEND;TZID=America/Los_Angeles:20260228T233000
DTSTAMP:20260424T113438
CREATED:20251118T210230Z
LAST-MODIFIED:20251118T211204Z
UID:839-1772321400-1772321400@aisees.org
SUMMARY:Application DUE: Travel Grant for SE European Scholars
DESCRIPTION:The American Institute for Southeast European Studies (AISEES) announces the availability of 3 travel grants per year of up to $2\,500 for southeast European scholars affiliated with an institution in their home country and traveling from southeastern Europe (Albania\, Bosnia and Herzegovina\, Bulgaria\, Croatia\, Kosovo\, Moldova\, Montenegro\, North Macedonia\, Romania\, Serbia\, and Slovenia) in support of travel expenses to present original research or organize a session at a professional conference or symposium of international importance within the domains of the Humanities and Social Sciences. Funds are intended to cover the cost of transportation to and from the conference\, registration fees\, and lodging. The deadline for submitting an application for this grant is February 28\, 2026.
URL:https://aisees.org/event/application-due-travel-grant-for-se-european-scholars/
END:VEVENT
BEGIN:VEVENT
DTSTART;TZID=America/New_York:20260225T123000
DTEND;TZID=America/New_York:20260225T133000
DTSTAMP:20260424T113438
CREATED:20260213T200248Z
LAST-MODIFIED:20260213T201107Z
UID:864-1772022600-1772026200@aisees.org
SUMMARY:Friendship and Everyday Nationhood: Lessons from Yugoslav Alpinism and Beyond
DESCRIPTION:Zala Pavsic (AISEES Travel Grant Awardee) presents her current research evolving around the narratives of friendship in the disintegration of Yugoslavia. She traces how the motif of multiethnicity echoing the policy of brotherhood and unity policy is gradually transformed into narrative of ethnic tension\, how these narratives often turned into enmity in order to mobilize public emotions in wartime\, and how after the war\, they again turn towards emphasizing multiethnicity through narratives of reconciliation.
URL:https://aisees.org/event/friendship-and-everyday-nationhood-lessons-from-yugoslav-alpinism-and-beyond/
END:VEVENT
BEGIN:VEVENT
DTSTART;TZID=America/Los_Angeles:20260120T233000
DTEND;TZID=America/Los_Angeles:20260120T233000
DTSTAMP:20260424T113438
CREATED:20251118T205832Z
LAST-MODIFIED:20251118T211204Z
UID:833-1768951800-1768951800@aisees.org
SUMMARY:Fellowship Application Deadline
DESCRIPTION:Each year (January 20 deadline)\, AISEES awards three fellowships of $3000 to graduate students and early postdocs (up to 5 years after PhD) affiliated with an institution in the USA for research in the Humanities and Social Sciences that requires travel to one or more of the countries of southeastern Europe.
URL:https://aisees.org/event/fellowship-application-deadline/
END:VEVENT
BEGIN:VEVENT
DTSTART;TZID=America/Los_Angeles:20251231T233000
DTEND;TZID=America/Los_Angeles:20251231T233000
DTSTAMP:20260424T113438
CREATED:20251118T210107Z
LAST-MODIFIED:20251118T211204Z
UID:837-1767223800-1767223800@aisees.org
SUMMARY:Application DUE: Lynn Roller Research Fellowship for Senior Scholars in the USA and SE Europe
DESCRIPTION:AISEES announces the availability of two fellowships for senior scholars\, defined as someone who is more than five years beyond the Ph.D. One fellowship of $5000 will be awarded to a university faculty member or independent scholar based in the USA\, and one fellowship of $3000 will be awarded to a faculty member or independent scholarbased in southeastern Europe. The fellowships will be used to support research in southeastern Europe (Albania\, Bosnia and Herzegovina\, Bulgaria\, Croatia\, Kosovo\, Moldova\, Montenegro\, North Macedonia\, Romania\, Serbia and Slovenia). The research project must be conducted within the 12-month period of May 1\, 2026 and April 30\, 2027. Projects in all fields in the social sciences\, humanities and related disciplines are eligible.
URL:https://aisees.org/event/application-due-lynn-roller-research-fellowship-for-senior-scholars-in-the-usa-and-se-europe/
END:VEVENT
END:VCALENDAR